BEGIN:VCALENDAR
VERSION:2.0
PRODID:-//Entre Delageois - ECPv6.15.17.1//NONSGML v1.0//EN
CALSCALE:GREGORIAN
METHOD:PUBLISH
X-ORIGINAL-URL:https://lacdelage.lesaint.ca
X-WR-CALDESC:Événements pour Entre Delageois
REFRESH-INTERVAL;VALUE=DURATION:PT1H
X-Robots-Tag:noindex
X-PUBLISHED-TTL:PT1H
BEGIN:VTIMEZONE
TZID:America/Toronto
BEGIN:DAYLIGHT
TZOFFSETFROM:-0500
TZOFFSETTO:-0400
TZNAME:EDT
DTSTART:20250309T070000
END:DAYLIGHT
BEGIN:STANDARD
TZOFFSETFROM:-0400
TZOFFSETTO:-0500
TZNAME:EST
DTSTART:20251102T060000
END:STANDARD
BEGIN:DAYLIGHT
TZOFFSETFROM:-0500
TZOFFSETTO:-0400
TZNAME:EDT
DTSTART:20260308T070000
END:DAYLIGHT
BEGIN:STANDARD
TZOFFSETFROM:-0400
TZOFFSETTO:-0500
TZNAME:EST
DTSTART:20261101T060000
END:STANDARD
BEGIN:DAYLIGHT
TZOFFSETFROM:-0500
TZOFFSETTO:-0400
TZNAME:EDT
DTSTART:20270314T070000
END:DAYLIGHT
BEGIN:STANDARD
TZOFFSETFROM:-0400
TZOFFSETTO:-0500
TZNAME:EST
DTSTART:20271107T060000
END:STANDARD
END:VTIMEZONE
BEGIN:VEVENT
DTSTART;TZID=America/Toronto:20260509T133000
DTEND;TZID=America/Toronto:20260509T170000
DTSTAMP:20260421T075137
CREATED:20260214T215649Z
LAST-MODIFIED:20260314T221420Z
UID:151-1778333400-1778346000@lacdelage.lesaint.ca
SUMMARY:Échange de semis – On prépare l’été ensemble
DESCRIPTION:Le printemps\, c’est le moment où les rebords de fenêtres se remplissent de petits pots\, de jeunes pousses et d’envies de jardin. Cet échange de semis est une belle occasion d’apporter quelques plants en trop : légumes\, fines herbes\, fleurs\, boutures ou autres petites trouvailles et de repartir avec de nouvelles variétés à essayer chez soi. \nPas besoin d’avoir une production impressionnante pour participer. Quelques semis suffisent pour prendre part à l’activité\, découvrir ce que d’autres ont préparé\, poser des questions\, partager des trucs et faire circuler un peu de verdure. C’est une activité simple\, agréable et parfaite pour lancer la saison des plantations dans une ambiance détendue. \nQuelques tables\, des petites étiquettes pour identifier les plants et le tour est joué. Chacun apporte ce qu’il peut\, regarde ce qui l’inspire et repart peut-être avec de nouvelles idées à faire pousser.
URL:https://lacdelage.lesaint.ca/calendrier/echange-semis/
LOCATION:Le pavillon du parc
ATTACH;FMTTYPE=image/jpeg:https://lacdelage.lesaint.ca/wp-content/uploads/2026/02/semis-tomates-debuter-img.jpg
END:VEVENT
END:VCALENDAR