BEGIN:VCALENDAR
VERSION:2.0
PRODID:-//Entre Delageois - ECPv6.15.17.1//NONSGML v1.0//EN
CALSCALE:GREGORIAN
METHOD:PUBLISH
X-ORIGINAL-URL:https://lacdelage.lesaint.ca
X-WR-CALDESC:Événements pour Entre Delageois
REFRESH-INTERVAL;VALUE=DURATION:PT1H
X-Robots-Tag:noindex
X-PUBLISHED-TTL:PT1H
BEGIN:VTIMEZONE
TZID:America/Toronto
BEGIN:DAYLIGHT
TZOFFSETFROM:-0500
TZOFFSETTO:-0400
TZNAME:EDT
DTSTART:20250309T070000
END:DAYLIGHT
BEGIN:STANDARD
TZOFFSETFROM:-0400
TZOFFSETTO:-0500
TZNAME:EST
DTSTART:20251102T060000
END:STANDARD
BEGIN:DAYLIGHT
TZOFFSETFROM:-0500
TZOFFSETTO:-0400
TZNAME:EDT
DTSTART:20260308T070000
END:DAYLIGHT
BEGIN:STANDARD
TZOFFSETFROM:-0400
TZOFFSETTO:-0500
TZNAME:EST
DTSTART:20261101T060000
END:STANDARD
BEGIN:DAYLIGHT
TZOFFSETFROM:-0500
TZOFFSETTO:-0400
TZNAME:EDT
DTSTART:20270314T070000
END:DAYLIGHT
BEGIN:STANDARD
TZOFFSETFROM:-0400
TZOFFSETTO:-0500
TZNAME:EST
DTSTART:20271107T060000
END:STANDARD
END:VTIMEZONE
BEGIN:VEVENT
DTSTART;TZID=America/Toronto:20260523T103000
DTEND;TZID=America/Toronto:20260523T150000
DTSTAMP:20260421T090630
CREATED:20260304T204436Z
LAST-MODIFIED:20260314T161621Z
UID:1325-1779532200-1779548400@lacdelage.lesaint.ca
SUMMARY:Fête des premiers bourgeons des pommiers
DESCRIPTION:Quand les premiers bourgeons apparaissent sur les pommiers\, on sent que la belle saison n’est plus très loin. Cette petite fête serait une belle occasion de profiter de ce moment-là\, tout simplement\, en allant voir les arbres se réveiller et en prenant le temps d’apprécier ce tout début de printemps. \nL’idée est de garder ça léger et agréable : une promenade\, un arrêt pour admirer les bourgeons\, puis un moment pour casser la croûte ensemble. Chacun pourrait apporter un petit lunch simple — sandwich\, crudités\, muffin\, fruit\, thermos\, petite collation — juste de quoi profiter du moment sans complication. Une activité douce\, saisonnière\, qui donne une bonne raison de sortir et de savourer ce changement de rythme. \nPetite note :Cet événement est encore une idée à faire naître. Il nous faudrait une ou quelques personnes pour proposer la formule\, choisir l’endroit exact et aider à en faire un beau petit moment. On peut donner un coup de main\, bien sûr\, mais l’idée est surtout de vous inspirer et de voir qui aurait envie de le faire vivre. La date est flexible — à vous aussi de proposer le bon moment.
URL:https://lacdelage.lesaint.ca/calendrier/fete-des-premiers-bourgeons-des-pommiers/
ATTACH;FMTTYPE=image/jpeg:https://lacdelage.lesaint.ca/wp-content/uploads/2026/03/piknik-printemps-lac-delage.jpg
END:VEVENT
END:VCALENDAR