BEGIN:VCALENDAR
VERSION:2.0
PRODID:-//Entre Delageois - ECPv6.15.17.1//NONSGML v1.0//EN
CALSCALE:GREGORIAN
METHOD:PUBLISH
X-ORIGINAL-URL:https://lacdelage.lesaint.ca
X-WR-CALDESC:Événements pour Entre Delageois
REFRESH-INTERVAL;VALUE=DURATION:PT1H
X-Robots-Tag:noindex
X-PUBLISHED-TTL:PT1H
BEGIN:VTIMEZONE
TZID:America/Toronto
BEGIN:DAYLIGHT
TZOFFSETFROM:-0500
TZOFFSETTO:-0400
TZNAME:EDT
DTSTART:20250309T070000
END:DAYLIGHT
BEGIN:STANDARD
TZOFFSETFROM:-0400
TZOFFSETTO:-0500
TZNAME:EST
DTSTART:20251102T060000
END:STANDARD
BEGIN:DAYLIGHT
TZOFFSETFROM:-0500
TZOFFSETTO:-0400
TZNAME:EDT
DTSTART:20260308T070000
END:DAYLIGHT
BEGIN:STANDARD
TZOFFSETFROM:-0400
TZOFFSETTO:-0500
TZNAME:EST
DTSTART:20261101T060000
END:STANDARD
BEGIN:DAYLIGHT
TZOFFSETFROM:-0500
TZOFFSETTO:-0400
TZNAME:EDT
DTSTART:20270314T070000
END:DAYLIGHT
BEGIN:STANDARD
TZOFFSETFROM:-0400
TZOFFSETTO:-0500
TZNAME:EST
DTSTART:20271107T060000
END:STANDARD
END:VTIMEZONE
BEGIN:VEVENT
DTSTART;TZID=America/Toronto:20260531T140000
DTEND;TZID=America/Toronto:20260531T170000
DTSTAMP:20260421T090506
CREATED:20260215T155544Z
LAST-MODIFIED:20260314T221453Z
UID:230-1780236000-1780246800@lacdelage.lesaint.ca
SUMMARY:Pause-café au Lac : on se rencontre ?
DESCRIPTION:Il y a des idées qui naissent autour d’une simple conversation. \nCette fois\, quelques résidents passionnés de cuisine ont eu envie d’organiser un café-rencontre à la salle communautaire de l’hôtel de ville. L’objectif est tout simple : offrir un moment pour se voir\, se parler et mieux se connaître. \nAu menu : café chaud\, petits biscuits maison et discussions spontanées. Que vous reveniez d’une marche\, d’une partie de hockey ou que vous ayez simplement envie de sortir un peu\, passez nous voir. \nCe n’est pas une activité formelle\, ni une rencontre organisée avec horaire serré. Juste un moment pour s’asseoir\, jaser et partager. \n☕ Café et biscuits offerts🤝 Ouvert à tous les résidents💛 Contribution volontaire sur place pour aider à couvrir les frais des ingrédients \nIl serait apprécié de confirmer votre présence afin de prévoir la bonne quantité de biscuits… sinon\, Paul pourrait être tenté de tous les manger. \nAu plaisir de vous y voir. Entre voisins \nPetite note :Cet événement est encore une idée à faire naître. Il nous faudrait une ou quelques personnes pour aider à l’organisation (matériel\, emplacement\, formule simple). On peut donner un coup de main\, bien sûr\, mais l’idée est surtout de vous inspirer et de voir qui aurait envie de le faire vivre. La date est flexible — à vous aussi de proposer le bon moment.
URL:https://lacdelage.lesaint.ca/calendrier/cafe/
LOCATION:Salle communautaire\, 24\, rue du Pied-des-Pentes\, Lac-Delage\, Québec\, G3C 5A4
ATTACH;FMTTYPE=image/jpeg:https://lacdelage.lesaint.ca/wp-content/uploads/2026/02/cafe.jpg
END:VEVENT
END:VCALENDAR