BEGIN:VCALENDAR
VERSION:2.0
PRODID:-//Entre Delageois - ECPv6.15.17.1//NONSGML v1.0//EN
CALSCALE:GREGORIAN
METHOD:PUBLISH
X-WR-CALNAME:Entre Delageois
X-ORIGINAL-URL:https://lacdelage.lesaint.ca
X-WR-CALDESC:Événements pour Entre Delageois
REFRESH-INTERVAL;VALUE=DURATION:PT1H
X-Robots-Tag:noindex
X-PUBLISHED-TTL:PT1H
BEGIN:VTIMEZONE
TZID:America/Toronto
BEGIN:DAYLIGHT
TZOFFSETFROM:-0500
TZOFFSETTO:-0400
TZNAME:EDT
DTSTART:20250309T070000
END:DAYLIGHT
BEGIN:STANDARD
TZOFFSETFROM:-0400
TZOFFSETTO:-0500
TZNAME:EST
DTSTART:20251102T060000
END:STANDARD
BEGIN:DAYLIGHT
TZOFFSETFROM:-0500
TZOFFSETTO:-0400
TZNAME:EDT
DTSTART:20260308T070000
END:DAYLIGHT
BEGIN:STANDARD
TZOFFSETFROM:-0400
TZOFFSETTO:-0500
TZNAME:EST
DTSTART:20261101T060000
END:STANDARD
BEGIN:DAYLIGHT
TZOFFSETFROM:-0500
TZOFFSETTO:-0400
TZNAME:EDT
DTSTART:20270314T070000
END:DAYLIGHT
BEGIN:STANDARD
TZOFFSETFROM:-0400
TZOFFSETTO:-0500
TZNAME:EST
DTSTART:20271107T060000
END:STANDARD
END:VTIMEZONE
BEGIN:VEVENT
DTSTART;TZID=America/Toronto:20260620T100000
DTEND;TZID=America/Toronto:20260620T120000
DTSTAMP:20260421T110457
CREATED:20260304T203523Z
LAST-MODIFIED:20260314T161524Z
UID:1329-1781949600-1781956800@lacdelage.lesaint.ca
SUMMARY:Initiation au yoga en plein air
DESCRIPTION:Une initiation au yoga en plein air\, c’est l’occasion parfaite d’essayer sans pression\, dans une ambiance simple et agréable. La séance pourrait être douce et accessible : quelques étirements\, des mouvements faciles\, de la respiration\, et un moment de détente à la fin. Pas besoin d’être souple ni d’avoir de l’expérience — c’est vraiment une séance pour se sentir bien\, à son rythme. \nApportez votre tapis ou une serviette\, une bouteille d’eau\, et une petite couverture si vous aimez être confortable pour la relaxation. L’idée est de profiter du parc\, de bouger un peu\, et de commencer la journée (ou la finir) de façon calme et positive. \nPetite note :Cet événement est encore une idée à faire naître. Il nous faudrait une ou quelques personnes pour l’animer ou guider la séance (même en formule très simple). On peut aider à l’organisation\, bien sûr\, mais l’idée est surtout de vous inspirer et de voir qui aurait envie de le faire vivre. La date est flexible — à vous aussi de proposer le bon moment.
URL:https://lacdelage.lesaint.ca/calendrier/initiation-au-yoga-en-plein-air/
ATTACH;FMTTYPE=image/jpeg:https://lacdelage.lesaint.ca/wp-content/uploads/2026/03/yoga-plein-air-lac-delage.jpg
END:VEVENT
END:VCALENDAR