BEGIN:VCALENDAR
VERSION:2.0
PRODID:-//Entre Delageois - ECPv6.15.17.1//NONSGML v1.0//EN
CALSCALE:GREGORIAN
METHOD:PUBLISH
X-ORIGINAL-URL:https://lacdelage.lesaint.ca
X-WR-CALDESC:Événements pour Entre Delageois
REFRESH-INTERVAL;VALUE=DURATION:PT1H
X-Robots-Tag:noindex
X-PUBLISHED-TTL:PT1H
BEGIN:VTIMEZONE
TZID:America/Toronto
BEGIN:DAYLIGHT
TZOFFSETFROM:-0500
TZOFFSETTO:-0400
TZNAME:EDT
DTSTART:20250309T070000
END:DAYLIGHT
BEGIN:STANDARD
TZOFFSETFROM:-0400
TZOFFSETTO:-0500
TZNAME:EST
DTSTART:20251102T060000
END:STANDARD
BEGIN:DAYLIGHT
TZOFFSETFROM:-0500
TZOFFSETTO:-0400
TZNAME:EDT
DTSTART:20260308T070000
END:DAYLIGHT
BEGIN:STANDARD
TZOFFSETFROM:-0400
TZOFFSETTO:-0500
TZNAME:EST
DTSTART:20261101T060000
END:STANDARD
BEGIN:DAYLIGHT
TZOFFSETFROM:-0500
TZOFFSETTO:-0400
TZNAME:EDT
DTSTART:20270314T070000
END:DAYLIGHT
BEGIN:STANDARD
TZOFFSETFROM:-0400
TZOFFSETTO:-0500
TZNAME:EST
DTSTART:20271107T060000
END:STANDARD
END:VTIMEZONE
BEGIN:VEVENT
DTSTART;TZID=America/Toronto:20260725T163000
DTEND;TZID=America/Toronto:20260725T230000
DTSTAMP:20260421T122024
CREATED:20260304T200723Z
LAST-MODIFIED:20260314T161445Z
UID:1333-1784997000-1785020400@lacdelage.lesaint.ca
SUMMARY:5 à 7 du voisinage au parc
DESCRIPTION:Un 5 à 7 tout simple au parc pour profiter de la fin de journée dans une ambiance légère. Chacun peut apporter quelque chose à boire\, un petit quelque chose à grignoter ou quelques bouchées à partager : fromage\, crudités\, trempette\, craquelins\, petites bouchées maison\, olives\, fruits… l’idée est de garder ça simple\, facile et sans préparation compliquée. \nApportez aussi votre chaise de camping ou une couverture si vous le voulez\, et le tour est joué. On arrive quand on peut\, on prend l’air\, on profite du moment\, puis on repart à notre rythme. Un événement facile à imaginer\, agréable à répéter\, et parfait pour les belles soirées d’été. \nPetite note :Cet événement est encore une idée à faire naître. Il nous faudrait une ou quelques personnes pour le lancer (choisir l’endroit exact\, l’heure\, et une formule simple). On peut donner un coup de main\, bien sûr\, mais l’idée est surtout de vous inspirer et de voir qui aurait envie de le faire vivre. La date est flexible — à vous aussi de proposer le bon moment.
URL:https://lacdelage.lesaint.ca/calendrier/5-a-7-du-voisinage-au-parc/
ATTACH;FMTTYPE=image/jpeg:https://lacdelage.lesaint.ca/wp-content/uploads/2026/03/5-7-parc-lac-delage.jpg
END:VEVENT
END:VCALENDAR