BEGIN:VCALENDAR
VERSION:2.0
PRODID:-//Entre Delageois - ECPv6.15.17.1//NONSGML v1.0//EN
CALSCALE:GREGORIAN
METHOD:PUBLISH
X-WR-CALNAME:Entre Delageois
X-ORIGINAL-URL:https://lacdelage.lesaint.ca
X-WR-CALDESC:Événements pour Entre Delageois
REFRESH-INTERVAL;VALUE=DURATION:PT1H
X-Robots-Tag:noindex
X-PUBLISHED-TTL:PT1H
BEGIN:VTIMEZONE
TZID:America/Toronto
BEGIN:DAYLIGHT
TZOFFSETFROM:-0500
TZOFFSETTO:-0400
TZNAME:EDT
DTSTART:20250309T070000
END:DAYLIGHT
BEGIN:STANDARD
TZOFFSETFROM:-0400
TZOFFSETTO:-0500
TZNAME:EST
DTSTART:20251102T060000
END:STANDARD
BEGIN:DAYLIGHT
TZOFFSETFROM:-0500
TZOFFSETTO:-0400
TZNAME:EDT
DTSTART:20260308T070000
END:DAYLIGHT
BEGIN:STANDARD
TZOFFSETFROM:-0400
TZOFFSETTO:-0500
TZNAME:EST
DTSTART:20261101T060000
END:STANDARD
BEGIN:DAYLIGHT
TZOFFSETFROM:-0500
TZOFFSETTO:-0400
TZNAME:EDT
DTSTART:20270314T070000
END:DAYLIGHT
BEGIN:STANDARD
TZOFFSETFROM:-0400
TZOFFSETTO:-0500
TZNAME:EST
DTSTART:20271107T060000
END:STANDARD
END:VTIMEZONE
BEGIN:VEVENT
DTSTART;TZID=America/Toronto:20260606T100000
DTEND;TZID=America/Toronto:20260606T120000
DTSTAMP:20260421T092256
CREATED:20260304T163328Z
LAST-MODIFIED:20260314T161551Z
UID:1427-1780740000-1780747200@lacdelage.lesaint.ca
SUMMARY:Atelier : initiation au lancer à la mouche
DESCRIPTION:On voit souvent ça dans les films : le fil qui déroule dans l’air\, le geste fluide\, presque hypnotisant. Mais en vrai\, le lancer à la mouche\, ça s’apprend… et ça devient vite plaisant quand on comprend les bases. Cet atelier proposerait une initiation simple\, en plein air\, pour apprendre le mouvement\, la posture\, le rythme\, et pratiquer en douceur avec des conseils faciles à appliquer. \nPas besoin d’être pêcheur expert. L’idée\, c’est de démystifier la technique\, de s’amuser à pratiquer\, et de repartir avec une meilleure compréhension pour pouvoir l’essayer ensuite sur l’eau. On pourrait même faire une petite portion “équipement de base” (canne\, soie\, mouches\, nœuds simples) pour aider ceux qui veulent se lancer sans se compliquer la vie. \nUne activité parfaite pour les curieux\, ceux qui ont toujours voulu essayer\, ou ceux qui ont déjà une canne mais n’ont jamais vraiment “pogné le feeling”. \nPetite note :Cette activité est encore une idée à faire naître. Il nous faudrait une ou quelques personnes qui s’y connaissent un minimum (ou qui veulent coanimer) pour guider l’atelier et proposer une formule simple et sécuritaire. On peut aider à l’organisation\, bien sûr\, mais l’idée est surtout de vous inspirer et de voir qui aurait envie de la faire vivre. La date est flexible — à vous aussi de proposer le bon moment.
URL:https://lacdelage.lesaint.ca/calendrier/atelier-initiation-au-lancer-a-la-mouche/
ATTACH;FMTTYPE=image/jpeg:https://lacdelage.lesaint.ca/wp-content/uploads/2026/03/lancer-mouche-peche-lac-delage.jpg
END:VEVENT
BEGIN:VEVENT
DTSTART;TZID=America/Toronto:20260613T100000
DTEND;TZID=America/Toronto:20260614T160000
DTSTAMP:20260421T092256
CREATED:20260304T203931Z
LAST-MODIFIED:20260314T161538Z
UID:1327-1781344800-1781452800@lacdelage.lesaint.ca
SUMMARY:Plantes en fleurs à découvrir
DESCRIPTION:Certaines floraisons méritent d’être vues. Fleurs d’été proposerait un moment tout simple où les résidents peuvent apporter une ou quelques plantes en pot pour les présenter : orchidées\, plantes tropicales en fleurs\, hibiscus\, géraniums\, cactus en floraison\, ou toute autre plante qu’on a envie de montrer parce qu’elle est belle\, étonnante ou simplement en pleine forme. \nL’idée n’est pas de faire une exposition compliquée ni de chercher la plante “parfaite”. C’est plutôt une occasion de mettre un peu de couleur à l’honneur\, d’admirer ce que certains font pousser chez eux\, et de découvrir des floraisons qu’on ne verrait pas autrement. Une belle façon de profiter de l’été\, de faire entrer un peu de beauté dans la journée\, et peut-être même de repartir avec de nouvelles envies pour ses propres plantes. \nPetite note :Cet événement est encore une idée à faire naître. Il nous faudrait quelques personnes prêtes à apporter une plante\, à aider à l’installation ou à imaginer une formule simple pour la présentation. On peut donner un coup de main\, bien sûr\, mais l’idée est surtout de vous inspirer et de voir qui aurait envie de le faire vivre. La date est flexible — à vous aussi de proposer le bon moment.
URL:https://lacdelage.lesaint.ca/calendrier/fleurs-dete/
ATTACH;FMTTYPE=image/jpeg:https://lacdelage.lesaint.ca/wp-content/uploads/2026/03/plante-fleur-lac-delage.jpg
END:VEVENT
BEGIN:VEVENT
DTSTART;TZID=America/Toronto:20260620T100000
DTEND;TZID=America/Toronto:20260620T120000
DTSTAMP:20260421T092256
CREATED:20260304T203523Z
LAST-MODIFIED:20260314T161524Z
UID:1329-1781949600-1781956800@lacdelage.lesaint.ca
SUMMARY:Initiation au yoga en plein air
DESCRIPTION:Une initiation au yoga en plein air\, c’est l’occasion parfaite d’essayer sans pression\, dans une ambiance simple et agréable. La séance pourrait être douce et accessible : quelques étirements\, des mouvements faciles\, de la respiration\, et un moment de détente à la fin. Pas besoin d’être souple ni d’avoir de l’expérience — c’est vraiment une séance pour se sentir bien\, à son rythme. \nApportez votre tapis ou une serviette\, une bouteille d’eau\, et une petite couverture si vous aimez être confortable pour la relaxation. L’idée est de profiter du parc\, de bouger un peu\, et de commencer la journée (ou la finir) de façon calme et positive. \nPetite note :Cet événement est encore une idée à faire naître. Il nous faudrait une ou quelques personnes pour l’animer ou guider la séance (même en formule très simple). On peut aider à l’organisation\, bien sûr\, mais l’idée est surtout de vous inspirer et de voir qui aurait envie de le faire vivre. La date est flexible — à vous aussi de proposer le bon moment.
URL:https://lacdelage.lesaint.ca/calendrier/initiation-au-yoga-en-plein-air/
ATTACH;FMTTYPE=image/jpeg:https://lacdelage.lesaint.ca/wp-content/uploads/2026/03/yoga-plein-air-lac-delage.jpg
END:VEVENT
END:VCALENDAR