BEGIN:VCALENDAR
VERSION:2.0
PRODID:-//Entre Delageois - ECPv6.15.17.1//NONSGML v1.0//EN
CALSCALE:GREGORIAN
METHOD:PUBLISH
X-WR-CALNAME:Entre Delageois
X-ORIGINAL-URL:https://lacdelage.lesaint.ca
X-WR-CALDESC:Événements pour Entre Delageois
REFRESH-INTERVAL;VALUE=DURATION:PT1H
X-Robots-Tag:noindex
X-PUBLISHED-TTL:PT1H
BEGIN:VTIMEZONE
TZID:America/Toronto
BEGIN:DAYLIGHT
TZOFFSETFROM:-0500
TZOFFSETTO:-0400
TZNAME:EDT
DTSTART:20250309T070000
END:DAYLIGHT
BEGIN:STANDARD
TZOFFSETFROM:-0400
TZOFFSETTO:-0500
TZNAME:EST
DTSTART:20251102T060000
END:STANDARD
BEGIN:DAYLIGHT
TZOFFSETFROM:-0500
TZOFFSETTO:-0400
TZNAME:EDT
DTSTART:20260308T070000
END:DAYLIGHT
BEGIN:STANDARD
TZOFFSETFROM:-0400
TZOFFSETTO:-0500
TZNAME:EST
DTSTART:20261101T060000
END:STANDARD
BEGIN:DAYLIGHT
TZOFFSETFROM:-0500
TZOFFSETTO:-0400
TZNAME:EDT
DTSTART:20270314T070000
END:DAYLIGHT
BEGIN:STANDARD
TZOFFSETFROM:-0400
TZOFFSETTO:-0500
TZNAME:EST
DTSTART:20271107T060000
END:STANDARD
END:VTIMEZONE
BEGIN:VEVENT
DTSTART;TZID=America/Toronto:20260802T093000
DTEND;TZID=America/Toronto:20260802T120000
DTSTAMP:20260421T121711
CREATED:20260304T200322Z
LAST-MODIFIED:20260314T161431Z
UID:1339-1785663000-1785672000@lacdelage.lesaint.ca
SUMMARY:Brunch potluck pyjama au parc
DESCRIPTION:Voici une activité toute simple et franchement sympathique : un brunch potluck au parc\, en mode décontracté\, où chacun apporte un petit quelque chose à partager. Ça peut être des muffins\, des croissants\, des fruits\, des yogourts\, des bagels\, des jus\, du café\, une quiche maison\, des mini-viennoiseries… bref\, rien de compliqué\, juste de quoi garnir une table et profiter d’un beau moment ensemble. \nLe pyjama n’est pas obligatoire\, bien sûr\, mais il ajoute une touche légère et amusante à l’activité. L’idée\, c’est surtout de commencer la journée dans une ambiance simple\, agréable et sans prétention\, avec de bonnes choses à manger et une formule facile où tout le monde peut contribuer à sa façon. \nPetite note :Cet événement est encore une idée à faire naître. Il nous faudrait une ou quelques personnes qui auraient envie de lui donner vie\, que ce soit pour l’organiser\, le coanimer ou aider à prévoir une formule simple et agréable. On peut bien sûr donner un coup de main\, mais l’idée est surtout de vous inspirer et de voir qui aurait le goût d’embarquer. La date reste flexible — à vous aussi de proposer le bon moment.
URL:https://lacdelage.lesaint.ca/calendrier/brunch-potluck-pyjama-au-parc/
ATTACH;FMTTYPE=image/jpeg:https://lacdelage.lesaint.ca/wp-content/uploads/2026/03/Brunch-potluck-pyjama-lac-delage.jpg
END:VEVENT
BEGIN:VEVENT
DTSTART;TZID=America/Toronto:20260815T193000
DTEND;TZID=America/Toronto:20260815T210000
DTSTAMP:20260421T121711
CREATED:20260304T163006Z
LAST-MODIFIED:20260314T161417Z
UID:1341-1786822200-1786827600@lacdelage.lesaint.ca
SUMMARY:Concert acoustique intime entre voisins
DESCRIPTION:Pas besoin d’une grande scène pour créer un beau moment. Un concert acoustique intime\, c’est justement l’idée d’une soirée en format simple et chaleureux : quelques musiciens\, une guitare\, peut-être un ukulélé\, un violon\, une voix\, et une ambiance douce qui laisse toute la place à la musique. \nCette activité pourrait prendre la forme d’un petit concert en plein air ou dans un lieu tranquille\, avec des morceaux joués en version acoustique\, dans un esprit léger et accessible. Pas besoin d’un grand spectacle : parfois\, les plus beaux moments viennent justement de ce qui est simple\, vrai et sans prétention. Un petit répertoire varié\, quelques chaises\, une belle lumière en fin de journée… et le tour est joué. \nL’idée\, c’est d’offrir un moment agréable à écouter\, tout simplement\, avec la possibilité de découvrir des talents d’ici ou de laisser place à ceux qui aiment jouer dans un cadre détendu. \nPetite note :Cette activité n’est pas encore officielle. Il nous faudrait une ou quelques personnes pour lui donner forme : musiciens\, aide à l’organisation\, choix du lieu ou formule légère. On peut aider\, bien sûr\, mais l’idée est surtout de vous inspirer et de voir qui aurait envie de la faire vivre. La date reste flexible et pourra s’adapter selon les disponibilités.
URL:https://lacdelage.lesaint.ca/calendrier/concert-acoustique-intime-entre-voisins/
ATTACH;FMTTYPE=image/jpeg:https://lacdelage.lesaint.ca/wp-content/uploads/2026/03/chanson-lac-delage.jpg
END:VEVENT
BEGIN:VEVENT
DTSTART;TZID=America/Toronto:20260816T100000
DTEND;TZID=America/Toronto:20260816T120000
DTSTAMP:20260421T121711
CREATED:20260304T162703Z
LAST-MODIFIED:20260314T161403Z
UID:1343-1786874400-1786881600@lacdelage.lesaint.ca
SUMMARY:Table libre de plantes à adopter
DESCRIPTION:On a tous déjà eu une plante “en double”\, une bouture qui a trop poussé\, un pot qu’on n’utilise plus\, ou une petite plante qu’on voudrait donner plutôt que jeter. L’idée de cette table libre est simple : on installe une ou deux tables à un endroit prévu\, et chacun peut venir déposer des plantes à offrir (ou du matériel)\, et adopter ce qui lui fait envie. \nÇa peut être des boutures dans un verre\, des petites plantes en pot\, des semis\, des pots vides\, du terreau\, des cache-pots… bref\, tout ce qui peut servir. Aucune pression : si tu apportes quelque chose\, super. Si tu ne peux pas\, tu peux quand même passer voir. Le but\, c’est que ça reste léger\, facile\, et que les plantes trouvent une nouvelle maison. \nOn peut aussi ajouter quelques petites étiquettes “faciles” (lumière / arrosage) pour aider ceux qui repartent avec une nouvelle plante. \nPetite note :Cette activité n’est pas encore officielle. Il nous faudrait une ou quelques personnes pour aider à choisir l’endroit\, fixer une formule simple (heure\, tables\, affichage)\, et donner le coup de départ. On peut aider à l’organiser\, bien sûr\, mais l’idée est surtout de vous inspirer et de voir qui aurait envie de la faire vivre. La date est flexible — à vous aussi de proposer le bon moment.
URL:https://lacdelage.lesaint.ca/calendrier/table-libre-de-plantes-a-adopter/
ATTACH;FMTTYPE=image/jpeg:https://lacdelage.lesaint.ca/wp-content/uploads/2026/03/plante-a-donner-lac-delage.jpg
END:VEVENT
BEGIN:VEVENT
DTSTART;TZID=America/Toronto:20260822T190000
DTEND;TZID=America/Toronto:20260822T223000
DTSTAMP:20260421T121711
CREATED:20260304T162430Z
LAST-MODIFIED:20260314T161350Z
UID:1345-1787425200-1787437800@lacdelage.lesaint.ca
SUMMARY:Soirée lanternes sur le lac
DESCRIPTION:Imagine le lac en fin de journée\, l’eau calme\, le ciel qui change de couleur… et des petites lumières qui apparaissent tranquillement. Cette soirée lanternes proposerait une sortie toute simple et très belle : ceux qui le veulent peuvent aller sur l’eau en kayak ou en paddleboard\, avec une lanterne (ou une lumière sécuritaire)\, pendant que d’autres peuvent profiter du moment depuis la berge. L’idée est surtout de vivre une ambiance douce\, lumineuse\, et de profiter du lac autrement. \nPas besoin de faire une grande expédition : on peut garder ça court\, tranquille\, accessible. Juste une balade lente\, quelques photos\, un beau moment de fin d’été. On peut aussi imaginer un petit point de rassemblement au départ et au retour\, question que tout le monde sache où aller\, et que ça reste simple et sécuritaire. \nUne activité qui peut être aussi calme que magique… et qui donne envie de recommencer. \nPetite note :Pour l’instant\, cette activité est encore une idée à faire naître. Il nous faudrait une ou quelques personnes pour aider à choisir un point de départ\, établir une formule simple (sécurité\, durée\, lumière)\, et donner le coup d’envoi. On peut aider à l’organisation\, bien sûr\, mais l’idée est surtout de vous inspirer et de voir qui aurait envie de la faire vivre. La date reste flexible — à vous aussi de proposer ce qui conviendrait le mieux.
URL:https://lacdelage.lesaint.ca/calendrier/soiree-lanternes-sur-le-lac/
ATTACH;FMTTYPE=image/jpeg:https://lacdelage.lesaint.ca/wp-content/uploads/2026/03/kayak-lac-delage.jpg
END:VEVENT
END:VCALENDAR