BEGIN:VCALENDAR
VERSION:2.0
PRODID:-//Entre Delageois - ECPv6.15.17.1//NONSGML v1.0//EN
CALSCALE:GREGORIAN
METHOD:PUBLISH
X-ORIGINAL-URL:https://lacdelage.lesaint.ca
X-WR-CALDESC:Événements pour Entre Delageois
REFRESH-INTERVAL;VALUE=DURATION:PT1H
X-Robots-Tag:noindex
X-PUBLISHED-TTL:PT1H
BEGIN:VTIMEZONE
TZID:America/Toronto
BEGIN:DAYLIGHT
TZOFFSETFROM:-0500
TZOFFSETTO:-0400
TZNAME:EDT
DTSTART:20250309T070000
END:DAYLIGHT
BEGIN:STANDARD
TZOFFSETFROM:-0400
TZOFFSETTO:-0500
TZNAME:EST
DTSTART:20251102T060000
END:STANDARD
BEGIN:DAYLIGHT
TZOFFSETFROM:-0500
TZOFFSETTO:-0400
TZNAME:EDT
DTSTART:20260308T070000
END:DAYLIGHT
BEGIN:STANDARD
TZOFFSETFROM:-0400
TZOFFSETTO:-0500
TZNAME:EST
DTSTART:20261101T060000
END:STANDARD
BEGIN:DAYLIGHT
TZOFFSETFROM:-0500
TZOFFSETTO:-0400
TZNAME:EDT
DTSTART:20270314T070000
END:DAYLIGHT
BEGIN:STANDARD
TZOFFSETFROM:-0400
TZOFFSETTO:-0500
TZNAME:EST
DTSTART:20271107T060000
END:STANDARD
BEGIN:DAYLIGHT
TZOFFSETFROM:-0500
TZOFFSETTO:-0400
TZNAME:EDT
DTSTART:20280312T070000
END:DAYLIGHT
BEGIN:STANDARD
TZOFFSETFROM:-0400
TZOFFSETTO:-0500
TZNAME:EST
DTSTART:20281105T060000
END:STANDARD
END:VTIMEZONE
BEGIN:VEVENT
DTSTART;TZID=America/Toronto:20260904T133000
DTEND;TZID=America/Toronto:20270904T160000
DTSTAMP:20260421T150635
CREATED:20260304T162154Z
LAST-MODIFIED:20260314T161336Z
UID:1347-1788528600-1820073600@lacdelage.lesaint.ca
SUMMARY:Cueillette de champignons
DESCRIPTION:Une cueillette de champignons\, c’est d’abord une belle excuse pour prendre le bois\, ralentir un peu et porter attention à ce qu’on ne voit pas toujours. Cette activité proposerait une sortie simple en forêt pour repérer les champignons qu’on croise chez nous\, apprendre à les reconnaître un peu mieux et découvrir toute la diversité qu’on a sous les yeux sans toujours la remarquer. \nLe but n’est pas de revenir avec un panier plein à tout prix\, mais surtout de marcher\, d’observer\, de poser des questions et d’en apprendre un peu plus sur ce monde fascinant. Couleurs\, formes\, textures\, endroits où ils poussent… il y a déjà beaucoup à voir\, même sans être expert. Et si une personne qui s’y connaît un peu veut partager ses repères\, ses trucs ou ses précautions\, tant mieux. \nC’est une activité parfaite pour ceux qui aiment la nature\, les découvertes tranquilles et les sorties qui mélangent curiosité et plein air. \nPetite note :Cette activité n’est pas encore officielle. Il nous faudrait une ou quelques personnes pour l’aider à prendre forme\, idéalement avec un minimum de connaissances ou simplement l’envie de proposer une formule simple et prudente. On peut vous aider à l’organiser\, mais l’idée est surtout de vous inspirer et de vous donner le goût de la faire vivre. La date reste flexible et pourra s’ajuster selon la saison et les disponibilités.
URL:https://lacdelage.lesaint.ca/calendrier/cueillette-de-champignons/
ATTACH;FMTTYPE=image/jpeg:https://lacdelage.lesaint.ca/wp-content/uploads/2026/03/champignon-lac-delage.jpg
END:VEVENT
BEGIN:VEVENT
DTSTART;TZID=America/Toronto:20261003T100000
DTEND;TZID=America/Toronto:20261004T160000
DTSTAMP:20260421T150635
CREATED:20260304T161114Z
LAST-MODIFIED:20260314T161253Z
UID:1353-1791021600-1791129600@lacdelage.lesaint.ca
SUMMARY:Exposition des collections des résidents
DESCRIPTION:On a tous\, quelque part\, un petit trésor qui dort dans un tiroir ou une boîte : une collection commencée il y a longtemps\, un objet trouvé par hasard\, un souvenir qu’on garde précieusement\, ou une passion qui a pris de la place avec les années. Cette exposition proposerait justement de sortir ces collections de l’ombre\, le temps d’une journée (ou d’un week-end)\, pour les présenter simplement. \nTimbres\, monnaies\, cartes\, articles de sport signés\, miniatures\, livres\, disques\, objets vintage\, collections de photos\, souvenirs de voyage\, curiosités… tout est possible. L’idée n’est pas d’avoir des pièces “parfaites”\, mais de partager quelque chose qu’on aime\, et parfois l’histoire qui vient avec. Une belle façon de découvrir des passions inattendues et de voir à quel point les gens d’ici ont des univers variés. \nOn pourrait aussi prévoir une petite section “fragile / précieux” protégée (vitrine\, table à part\, etc.) pour ceux qui veulent exposer sans stress. \nPetite note :Cette activité est encore au stade d’idée. Il nous faudrait une ou quelques personnes qui auraient envie de l’organiser (réserver l’endroit\, proposer une formule simple\, aider à l’installation). On peut donner un coup de main\, bien sûr\, mais l’idée est surtout d’inspirer et de voir qui aurait envie de la faire exister. La date est flexible — vous pouvez aussi proposer le moment qui vous conviendrait le mieux.
URL:https://lacdelage.lesaint.ca/calendrier/exposition-des-collections-des-residents/
ATTACH;FMTTYPE=image/jpeg:https://lacdelage.lesaint.ca/wp-content/uploads/2026/03/expo-collection-timbre-voiture-lac-delage.jpg
END:VEVENT
BEGIN:VEVENT
DTSTART;TZID=America/Toronto:20261018T093000
DTEND;TZID=America/Toronto:20261018T120000
DTSTAMP:20260421T150635
CREATED:20260304T160632Z
LAST-MODIFIED:20260314T161240Z
UID:1355-1792315800-1792324800@lacdelage.lesaint.ca
SUMMARY:Atelier de déco de citrouille
DESCRIPTION:On sort les citrouilles\, les idées et un peu d’imagination! Cet atelier propose un moment simple et amusant pour décorer sa citrouille\, que ce soit en mode classique\, rigolo\, créatif ou spooky. Chacun apporte sa citrouille (petite ou grosse\, peu importe)\, et on se retrouve pour la sculpter\, la peindre ou la décorer selon ce que vous aimez. \nPas besoin d’être un artiste : l’important\, c’est le plaisir de bricoler\, d’essayer des idées\, de voir les créations des autres et de repartir avec une citrouille unique à mettre sur le perron. On peut imaginer une petite table de matériel de base (ou une liste de ce que les gens peuvent apporter)\, quelques idées d’inspiration\, et une ambiance légère où les enfants comme les adultes ont leur place. \nÀ la fin\, on pourrait même prendre une photo des plus belles (ou des plus terrifiantes!) citrouilles… juste pour le plaisir. \nPetite note :Cette activité n’est pas encore officielle : il nous faudrait une ou quelques personnes pour l’organiser et lui donner une forme simple. On peut donner un coup de main\, bien sûr\, mais l’idée est surtout de lancer des idées et de voir qui aurait envie de l’amener plus loin. La date est flexible — à vous aussi de proposer ce qui vous conviendrait.
URL:https://lacdelage.lesaint.ca/calendrier/atelier-de-deco-de-citrouille/
ATTACH;FMTTYPE=image/jpeg:https://lacdelage.lesaint.ca/wp-content/uploads/2026/03/deco-citrouille-halloween-lac-delage.jpg
END:VEVENT
BEGIN:VEVENT
DTSTART;TZID=America/Toronto:20261024T190000
DTEND;TZID=America/Toronto:20261024T220000
DTSTAMP:20260421T150635
CREATED:20260304T160350Z
LAST-MODIFIED:20260314T161225Z
UID:1357-1792868400-1792879200@lacdelage.lesaint.ca
SUMMARY:Photo des décos de maison pour l’Halloween
DESCRIPTION:Quand l’Halloween approche\, certaines maisons se transforment complètement. Citrouilles\, éclairages\, squelettes\, toiles\, silhouettes étranges\, petits détails amusants ou carrément décors spectaculaires… cette activité proposerait d’aller capter tout ça en photo\, de jour comme de soir\, pour mettre en valeur les plus belles décorations du secteur. \nLe concept peut rester très simple : faire une sortie en petit groupe\, ou encore se répartir quelques rues\, puis rassembler ensuite les plus belles images. Le but n’est pas d’en faire un concours compliqué\, mais plutôt de souligner la créativité des gens et de garder une belle trace de l’ambiance d’Halloween au lac. \nUne fois les photos réunies\, on pourrait créer un album à partager avec les coups de cœur\, les décors les plus originaux et les maisons qui auront su attirer le regard. Une activité facile à lancer\, agréable à faire\, et parfaite pour ajouter un peu de magie — et un petit brin de mystère — à la saison. \nPetite note :Cette activité est encore à imaginer. Il faudrait une ou quelques personnes qui auraient envie de lancer le mouvement\, de proposer une formule simple ou de rassembler les photos. On peut aider à mettre ça en place\, bien sûr\, mais l’idée est surtout de semer l’envie et de voir ce que les gens auront le goût de faire. La date peut très bien s’ajuster selon les disponibilités.
URL:https://lacdelage.lesaint.ca/calendrier/photo-des-decos-de-maison-pour-lhalloween/
ATTACH;FMTTYPE=image/jpeg:https://lacdelage.lesaint.ca/wp-content/uploads/2026/03/deco-halloween-lac-delage.jpg
END:VEVENT
END:VCALENDAR