BEGIN:VCALENDAR
VERSION:2.0
PRODID:-//Entre Delageois - ECPv6.15.17.1//NONSGML v1.0//EN
CALSCALE:GREGORIAN
METHOD:PUBLISH
X-ORIGINAL-URL:https://lacdelage.lesaint.ca
X-WR-CALDESC:Événements pour Entre Delageois
REFRESH-INTERVAL;VALUE=DURATION:PT1H
X-Robots-Tag:noindex
X-PUBLISHED-TTL:PT1H
BEGIN:VTIMEZONE
TZID:America/Toronto
BEGIN:DAYLIGHT
TZOFFSETFROM:-0500
TZOFFSETTO:-0400
TZNAME:EDT
DTSTART:20250309T070000
END:DAYLIGHT
BEGIN:STANDARD
TZOFFSETFROM:-0400
TZOFFSETTO:-0500
TZNAME:EST
DTSTART:20251102T060000
END:STANDARD
BEGIN:DAYLIGHT
TZOFFSETFROM:-0500
TZOFFSETTO:-0400
TZNAME:EDT
DTSTART:20260308T070000
END:DAYLIGHT
BEGIN:STANDARD
TZOFFSETFROM:-0400
TZOFFSETTO:-0500
TZNAME:EST
DTSTART:20261101T060000
END:STANDARD
BEGIN:DAYLIGHT
TZOFFSETFROM:-0500
TZOFFSETTO:-0400
TZNAME:EDT
DTSTART:20270314T070000
END:DAYLIGHT
BEGIN:STANDARD
TZOFFSETFROM:-0400
TZOFFSETTO:-0500
TZNAME:EST
DTSTART:20271107T060000
END:STANDARD
BEGIN:DAYLIGHT
TZOFFSETFROM:-0500
TZOFFSETTO:-0400
TZNAME:EDT
DTSTART:20280312T070000
END:DAYLIGHT
BEGIN:STANDARD
TZOFFSETFROM:-0400
TZOFFSETTO:-0500
TZNAME:EST
DTSTART:20281105T060000
END:STANDARD
END:VTIMEZONE
BEGIN:VEVENT
DTSTART;TZID=America/Toronto:20260904T133000
DTEND;TZID=America/Toronto:20270904T160000
DTSTAMP:20260421T161934
CREATED:20260304T162154Z
LAST-MODIFIED:20260314T161336Z
UID:1347-1788528600-1820073600@lacdelage.lesaint.ca
SUMMARY:Cueillette de champignons
DESCRIPTION:Une cueillette de champignons\, c’est d’abord une belle excuse pour prendre le bois\, ralentir un peu et porter attention à ce qu’on ne voit pas toujours. Cette activité proposerait une sortie simple en forêt pour repérer les champignons qu’on croise chez nous\, apprendre à les reconnaître un peu mieux et découvrir toute la diversité qu’on a sous les yeux sans toujours la remarquer. \nLe but n’est pas de revenir avec un panier plein à tout prix\, mais surtout de marcher\, d’observer\, de poser des questions et d’en apprendre un peu plus sur ce monde fascinant. Couleurs\, formes\, textures\, endroits où ils poussent… il y a déjà beaucoup à voir\, même sans être expert. Et si une personne qui s’y connaît un peu veut partager ses repères\, ses trucs ou ses précautions\, tant mieux. \nC’est une activité parfaite pour ceux qui aiment la nature\, les découvertes tranquilles et les sorties qui mélangent curiosité et plein air. \nPetite note :Cette activité n’est pas encore officielle. Il nous faudrait une ou quelques personnes pour l’aider à prendre forme\, idéalement avec un minimum de connaissances ou simplement l’envie de proposer une formule simple et prudente. On peut vous aider à l’organiser\, mais l’idée est surtout de vous inspirer et de vous donner le goût de la faire vivre. La date reste flexible et pourra s’ajuster selon la saison et les disponibilités.
URL:https://lacdelage.lesaint.ca/calendrier/cueillette-de-champignons/
ATTACH;FMTTYPE=image/jpeg:https://lacdelage.lesaint.ca/wp-content/uploads/2026/03/champignon-lac-delage.jpg
END:VEVENT
BEGIN:VEVENT
DTSTART;TZID=America/Toronto:20261107T193000
DTEND;TZID=America/Toronto:20261107T230000
DTSTAMP:20260421T161934
CREATED:20260304T160118Z
LAST-MODIFIED:20260314T161212Z
UID:1359-1794079800-1794092400@lacdelage.lesaint.ca
SUMMARY:Feu de joie des voisins
DESCRIPTION:Quand les soirées sont plus fraîches\, un feu de joie peut devenir le prétexte parfait pour passer un bon moment dehors. Cette activité proposerait une soirée simple autour d’un feu\, avec une ambiance chaleureuse\, un peu de musique\, des guimauves à griller et tout ce qui fait le charme des rencontres sans complication. \nCeux qui en ont envie pourraient apporter une guitare\, quelques chansons\, une chaise de camping\, une couverture ou de quoi ajouter un peu à l’atmosphère. Rien de trop organisé : juste un moment agréable\, vivant\, où l’on profite de la saison\, du feu qui crépite et du plaisir d’être là. Selon l’élan du groupe\, ça peut être très calme ou un peu plus animé\, mais toujours dans un esprit simple et accueillant. \nPetite note :Cette activité est encore en idée. Il nous faudrait une ou quelques personnes qui auraient envie d’aider à l’organiser ou à lui donner sa couleur. On peut donner un coup de main\, bien sûr\, mais l’idée est surtout d’ouvrir des possibilités et de voir ce que les gens auront envie de faire. La date pourra s’ajuster selon l’intérêt et les disponibilités.
URL:https://lacdelage.lesaint.ca/calendrier/feu-de-joie-des-voisins/
ATTACH;FMTTYPE=image/jpeg:https://lacdelage.lesaint.ca/wp-content/uploads/2026/03/soiree-feu-exterieur-lac-delage.jpg
END:VEVENT
BEGIN:VEVENT
DTSTART;TZID=America/Toronto:20261114T190000
DTEND;TZID=America/Toronto:20261114T230000
DTSTAMP:20260421T161934
CREATED:20260304T155750Z
LAST-MODIFIED:20260314T161155Z
UID:1361-1794682800-1794697200@lacdelage.lesaint.ca
SUMMARY:Soirée poker / casino
DESCRIPTION:Cartes sur la table\, jetons\, petits bluffs\, éclats de rire et juste ce qu’il faut de suspense… cette soirée poker / casino pourrait être une belle activité pour ajouter un peu d’animation à la saison. L’idée serait de recréer une ambiance de jeu simple et détendue\, avec quelques tables\, des parties amicales et le plaisir de jouer pour le fun\, sans pression. \nPoker\, blackjack\, roulette maison ou autres jeux faciles à mettre en place : la formule pourrait s’adapter selon l’intérêt et ce que les gens ont envie d’essayer. Ce qui compte\, c’est surtout le côté ludique\, l’ambiance\, et le plaisir de passer une soirée différente dans un esprit léger. \nUne activité facile à imaginer\, qui peut être toute simple ou un peu plus festive\, selon l’énergie du moment. \nPetite note :Cette activité est encore au stade d’idée. Il nous faudrait une ou quelques personnes qui auraient envie de la prendre en main\, de proposer une formule ou d’aider à monter la soirée. On peut donner un coup de main\, bien sûr\, mais le but est surtout de faire circuler les idées et de voir lesquelles auront envie de se concrétiser. La date pourra s’ajuster selon l’intérêt et les disponibilités.
URL:https://lacdelage.lesaint.ca/calendrier/soiree-poker-casino/
ATTACH;FMTTYPE=image/jpeg:https://lacdelage.lesaint.ca/wp-content/uploads/2026/03/poker-lac-delage.jpg
END:VEVENT
BEGIN:VEVENT
DTSTART;TZID=America/Toronto:20261128T140000
DTEND;TZID=America/Toronto:20261128T170000
DTSTAMP:20260421T161934
CREATED:20260304T155416Z
LAST-MODIFIED:20260314T161142Z
UID:1363-1795874400-1795885200@lacdelage.lesaint.ca
SUMMARY:Cabane à chocolat chaud éphémère
DESCRIPTION:Le temps d’une journée\, le parc pourrait se transformer en petite cabane à chocolat chaud\, juste pour le plaisir de se faire du bien. L’idée est simple : offrir un coin chaleureux où l’on peut venir découvrir et goûter différentes versions de chocolat chaud\, avec quelques parfums ou touches originales pour varier les plaisirs. \nVanille\, épices douces\, menthe\, orange\, moka ou autres idées du moment… cette activité pourrait prendre une forme toute simple\, mais très agréable\, avec quelques thermos\, un peu d’imagination et l’envie de créer une petite pause gourmande en plein air. Une belle façon d’ajouter un peu de chaleur à une journée froide et de profiter du parc autrement. \nPas besoin d’en faire trop pour que ce soit réussi : parfois\, une bonne boisson chaude\, un décor d’hiver et un petit moment dehors suffisent largement. \nPetite note :Cette activité est encore à l’étape des idées. Il nous faudrait une ou quelques personnes qui auraient envie de la faire exister\, que ce soit pour imaginer les saveurs\, préparer une formule simple ou aider à l’organisation. On peut donner un coup de main\, bien sûr\, mais l’idée est surtout de lancer l’étincelle et de voir ce que les gens auront envie de proposer. La date pourra s’ajuster selon l’intérêt et les disponibilités.
URL:https://lacdelage.lesaint.ca/calendrier/cabane-a-chocolat-chaud-ephemere/
ATTACH;FMTTYPE=image/jpeg:https://lacdelage.lesaint.ca/wp-content/uploads/2026/03/chocolat-chaud-hiver-lac-delage.jpg
END:VEVENT
END:VCALENDAR